BEGIN:VCALENDAR
VERSION:1.0
PRODID:SeedQuest
TZ:+0
BEGIN:VEVENT
SUMMARY:Rijk Zwaans Summer Demo Field
DESCRIPTION:
DTSTART:20140616T080000
LOCATION:
URL;VALUE=URI:
DTEND:20140704T190000
END:VEVENT
END:VCALENDAR